BEGIN:VCALENDAR
VERSION:2.0
PRODID:-//Brushed by Design Creations LLC - ECPv6.15.20//NONSGML v1.0//EN
CALSCALE:GREGORIAN
METHOD:PUBLISH
X-WR-CALNAME:Brushed by Design Creations LLC
X-ORIGINAL-URL:https://brushedbydesigncreations.com
X-WR-CALDESC:Events for Brushed by Design Creations LLC
REFRESH-INTERVAL;VALUE=DURATION:PT1H
X-Robots-Tag:noindex
X-PUBLISHED-TTL:PT1H
BEGIN:VTIMEZONE
TZID:America/Chicago
BEGIN:DAYLIGHT
TZOFFSETFROM:-0600
TZOFFSETTO:-0500
TZNAME:CDT
DTSTART:20250309T080000
END:DAYLIGHT
BEGIN:STANDARD
TZOFFSETFROM:-0500
TZOFFSETTO:-0600
TZNAME:CST
DTSTART:20251102T070000
END:STANDARD
BEGIN:DAYLIGHT
TZOFFSETFROM:-0600
TZOFFSETTO:-0500
TZNAME:CDT
DTSTART:20260308T080000
END:DAYLIGHT
BEGIN:STANDARD
TZOFFSETFROM:-0500
TZOFFSETTO:-0600
TZNAME:CST
DTSTART:20261101T070000
END:STANDARD
BEGIN:DAYLIGHT
TZOFFSETFROM:-0600
TZOFFSETTO:-0500
TZNAME:CDT
DTSTART:20270314T080000
END:DAYLIGHT
BEGIN:STANDARD
TZOFFSETFROM:-0500
TZOFFSETTO:-0600
TZNAME:CST
DTSTART:20271107T070000
END:STANDARD
END:VTIMEZONE
BEGIN:VEVENT
DTSTART;TZID=America/Chicago:20260321T130000
DTEND;TZID=America/Chicago:20260321T150000
DTSTAMP:20260421T075928
CREATED:20260213T013635Z
LAST-MODIFIED:20260214T190750Z
UID:11497-1774098000-1774105200@brushedbydesigncreations.com
SUMMARY:03/21/26 Create Sea Glass Succulents at Overboard Bar & Grill\, Inver Grove Heights\, MN at 1 PM
DESCRIPTION:Join us for a fun-filled afternoon making these fun Sea Glass Succulents at Overboard Bar & Grill in Inver Grove Heights\, MN! Enjoy a relaxed afternoon getting creative with friends and family. This class uses Hot Glue guns so is best for ages 16 and above. \nGrab your seats here: https://brushedbydesigncreations.com/product/0321seaglasssucculent/ \nWhat’s included: \n\nSea Glass\, various colors\nStep by step instruction\n3″ Clay Pot\nMini Lights\nAll Supplies needed to create your Sea Glass Succulent including hot glue guns\nNo experience needed. Take yours home that night!\n\nCOST: $39 \nThis event must be pre-paid. \nWHEN:\nSaturday\, March 21\n1:00 pm to  3:00 pm \nLOCATION: \nOverboard Bar & Grill\n4455 64th St E\nInver Grove Heights\, MN \nI encourage you to come hungry (not included in Ticket Price) to help support Overboard Bar & Grill\, an awesome venue that makes this workshop possible. \nThis is an excellent opportunity to relax\, unwind\, and make memories with your friends and family. So\, gather up your friends and your family and let’s create together! Experience Fun Art!
URL:https://brushedbydesigncreations.com/event/0321seaglasssucculents/
LOCATION:Overboard Bar & Grill\, 4455 64th St E\, Inver Grove Heights\, Minnesota\, 55076
CATEGORIES:Art Party
ATTACH;FMTTYPE=image/jpeg:https://brushedbydesigncreations.com/wp-content/uploads/2026/02/03.21.26-Overboard-Bar-Grill-Sea-Glass-Succulent-Class-Inver-Grove-Heights-MN-social-1.jpg
END:VEVENT
END:VCALENDAR