BEGIN:VCALENDAR
VERSION:2.0
PRODID:-//Brushed by Design Creations LLC - ECPv6.15.20//NONSGML v1.0//EN
CALSCALE:GREGORIAN
METHOD:PUBLISH
X-WR-CALNAME:Brushed by Design Creations LLC
X-ORIGINAL-URL:https://brushedbydesigncreations.com
X-WR-CALDESC:Events for Brushed by Design Creations LLC
REFRESH-INTERVAL;VALUE=DURATION:PT1H
X-Robots-Tag:noindex
X-PUBLISHED-TTL:PT1H
BEGIN:VTIMEZONE
TZID:America/Chicago
BEGIN:DAYLIGHT
TZOFFSETFROM:-0600
TZOFFSETTO:-0500
TZNAME:CDT
DTSTART:20250309T080000
END:DAYLIGHT
BEGIN:STANDARD
TZOFFSETFROM:-0500
TZOFFSETTO:-0600
TZNAME:CST
DTSTART:20251102T070000
END:STANDARD
BEGIN:DAYLIGHT
TZOFFSETFROM:-0600
TZOFFSETTO:-0500
TZNAME:CDT
DTSTART:20260308T080000
END:DAYLIGHT
BEGIN:STANDARD
TZOFFSETFROM:-0500
TZOFFSETTO:-0600
TZNAME:CST
DTSTART:20261101T070000
END:STANDARD
BEGIN:DAYLIGHT
TZOFFSETFROM:-0600
TZOFFSETTO:-0500
TZNAME:CDT
DTSTART:20270314T080000
END:DAYLIGHT
BEGIN:STANDARD
TZOFFSETFROM:-0500
TZOFFSETTO:-0600
TZNAME:CST
DTSTART:20271107T070000
END:STANDARD
END:VTIMEZONE
BEGIN:VEVENT
DTSTART;TZID=America/Chicago:20260517T180000
DTEND;TZID=America/Chicago:20260517T200000
DTSTAMP:20260422T173606
CREATED:20260315T202211Z
LAST-MODIFIED:20260315T202211Z
UID:11803-1779040800-1779048000@brushedbydesigncreations.com
SUMMARY:05/17/26 Create Crushed Glass & Resin Sun Catchers at Celts Pub of Farmington at 6 PM
DESCRIPTION:Join us for a fun-filled evening making the Crushed Glass & Resin Sun Catchers in your choice of Design at Celts Pub of Farmington in Farmington\, MN! Enjoy a relaxed evening getting creative with friends and family. \nGrab your seats here: https://brushedbydesigncreations.com/product/0517suncatchers/ \nWhat’s included: \n\nCrushed Glass and Resin Supplies (low VOC for no odor)\nStep by step instruction\nYour 12″ Wood template\nSafety Gloves (Masks available upon request)\nAll ages welcome and no experience needed. Take yours home that night!\n\nCOST: $55 \nThis event must be pre-paid. \nWHEN:\nSunday\, May 17th\n6:00pm to  8:00 pm \nLOCATION: \nCelts Pub of Farmington\n200 3rd Street\nFarmington\, MN \nFood and beverage are available for purchase\, but not included in the ticket price. Come hungry and help support an awesome venue who makes this Art Party possible. \nThis is an excellent opportunity to relax\, unwind\, and make memories with your friends and family. Experience FUN ART! \nSeats are limited so Register Early to save your Seat!
URL:https://brushedbydesigncreations.com/event/0517suncatchers/
LOCATION:Celts Pub Of Farmington\, 200 3rd Street\, Farmington\, 55024\, United States
CATEGORIES:Art Party
ATTACH;FMTTYPE=image/jpeg:https://brushedbydesigncreations.com/wp-content/uploads/2026/03/05.17.26-Celts-Pub-of-Farmington-DIY-Crushed-Glass-Resin-Sun-Catchers-Art-Party-social.jpg
END:VEVENT
END:VCALENDAR