BEGIN:VCALENDAR
VERSION:2.0
PRODID:-//Brushed by Design Creations LLC - ECPv6.15.20//NONSGML v1.0//EN
CALSCALE:GREGORIAN
METHOD:PUBLISH
X-WR-CALNAME:Brushed by Design Creations LLC
X-ORIGINAL-URL:https://brushedbydesigncreations.com
X-WR-CALDESC:Events for Brushed by Design Creations LLC
REFRESH-INTERVAL;VALUE=DURATION:PT1H
X-Robots-Tag:noindex
X-PUBLISHED-TTL:PT1H
BEGIN:VTIMEZONE
TZID:America/Chicago
BEGIN:DAYLIGHT
TZOFFSETFROM:-0600
TZOFFSETTO:-0500
TZNAME:CDT
DTSTART:20250309T080000
END:DAYLIGHT
BEGIN:STANDARD
TZOFFSETFROM:-0500
TZOFFSETTO:-0600
TZNAME:CST
DTSTART:20251102T070000
END:STANDARD
BEGIN:DAYLIGHT
TZOFFSETFROM:-0600
TZOFFSETTO:-0500
TZNAME:CDT
DTSTART:20260308T080000
END:DAYLIGHT
BEGIN:STANDARD
TZOFFSETFROM:-0500
TZOFFSETTO:-0600
TZNAME:CST
DTSTART:20261101T070000
END:STANDARD
BEGIN:DAYLIGHT
TZOFFSETFROM:-0600
TZOFFSETTO:-0500
TZNAME:CDT
DTSTART:20270314T080000
END:DAYLIGHT
BEGIN:STANDARD
TZOFFSETFROM:-0500
TZOFFSETTO:-0600
TZNAME:CST
DTSTART:20271107T070000
END:STANDARD
END:VTIMEZONE
BEGIN:VEVENT
DTSTART;TZID=America/Chicago:20260324T183000
DTEND;TZID=America/Chicago:20260324T210000
DTSTAMP:20260422T175625
CREATED:20260204T001105Z
LAST-MODIFIED:20260224T175908Z
UID:11334-1774377000-1774386000@brushedbydesigncreations.com
SUMMARY:03/24/26 Paint Spring in Bloom at Omni Brewery & Taproom\, Rosemount\, MN at 6:30 PM
DESCRIPTION:Join us at Omni Brewery & Taproom for a fun-filled evening painting the fun Spring in Bloom on an 11 x 14 canvas! \nGrab your seats here: https://brushedbydesigncreations.com/product/0324springinbloom/ \nWhether you are a painting enthusiast or a beginner\, our talented artist will guide you step by step\, making this a perfect event for everyone. All ages welcome and no experience needed. Design will be sketched and ready to paint using acrylics. \nThis is an excellent opportunity to relax\, unwind\, and make memories with your friends and family. Lots of fun and everyone leaves with a finished painting! \nWHEN:\nTuesday\, March 24\n6: 30 pm – 9:00 PM\nCOST: $35 \nThis paint party must be pre-paid. \nLOCATION: \nOMNI Brewery & Taproom\n15701 Biscayne Ave\n Rosemount\, MN 55068 \nCome early to order food and drinks and help support Omni Brewery & Taproom\, an awesome venue that makes this paint party possible! (not included in ticket price) \n\n\nPLEASE NOTE: Arrive at least 10 minutes early to get prepped for painting. \n\nSeats are limited so Register Early to save your Seat! \nRETURN & REFUND POLICY\nTicket purchases are nonrefundable. If you are unable to attend and notify me a minimum of 48 hours before the paint party\, I will place you on my credit list. Please note that your credit must be used within 90 days or it is forfeited. You may also opt to have your canvas and paint sent home with your friend on the day of the event you signed up for. Brushes are not included. If the paint party has to be changed due to a force of nature\, we will reschedule or issue credit towards another paint party to be used within 90 days.
URL:https://brushedbydesigncreations.com/event/0324springinbloom/
LOCATION:Omni Brewery and Taproom\, 15701 Biscayne Ave\, Rosemount\, Minnesota\, 55068
CATEGORIES:Paint Parties
ATTACH;FMTTYPE=image/jpeg:https://brushedbydesigncreations.com/wp-content/uploads/2026/02/03.24.26-Omni-Brewery-and-Taproom-paint-and-sip-paint-party-rosemount-mn-social-1.jpg
END:VEVENT
END:VCALENDAR