BEGIN:VCALENDAR
VERSION:2.0
PRODID:-//Brushed by Design Creations LLC - ECPv6.15.20//NONSGML v1.0//EN
CALSCALE:GREGORIAN
METHOD:PUBLISH
X-ORIGINAL-URL:https://brushedbydesigncreations.com
X-WR-CALDESC:Events for Brushed by Design Creations LLC
REFRESH-INTERVAL;VALUE=DURATION:PT1H
X-Robots-Tag:noindex
X-PUBLISHED-TTL:PT1H
BEGIN:VTIMEZONE
TZID:America/Chicago
BEGIN:DAYLIGHT
TZOFFSETFROM:-0600
TZOFFSETTO:-0500
TZNAME:CDT
DTSTART:20250309T080000
END:DAYLIGHT
BEGIN:STANDARD
TZOFFSETFROM:-0500
TZOFFSETTO:-0600
TZNAME:CST
DTSTART:20251102T070000
END:STANDARD
BEGIN:DAYLIGHT
TZOFFSETFROM:-0600
TZOFFSETTO:-0500
TZNAME:CDT
DTSTART:20260308T080000
END:DAYLIGHT
BEGIN:STANDARD
TZOFFSETFROM:-0500
TZOFFSETTO:-0600
TZNAME:CST
DTSTART:20261101T070000
END:STANDARD
BEGIN:DAYLIGHT
TZOFFSETFROM:-0600
TZOFFSETTO:-0500
TZNAME:CDT
DTSTART:20270314T080000
END:DAYLIGHT
BEGIN:STANDARD
TZOFFSETFROM:-0500
TZOFFSETTO:-0600
TZNAME:CST
DTSTART:20271107T070000
END:STANDARD
END:VTIMEZONE
BEGIN:VEVENT
DTSTART;TZID=America/Chicago:20260303T180000
DTEND;TZID=America/Chicago:20260303T203000
DTSTAMP:20260422T175921
CREATED:20260122T164710Z
LAST-MODIFIED:20260124T163259Z
UID:11235-1772560800-1772569800@brushedbydesigncreations.com
SUMMARY:03/03/26 Paint Lucky Gnome at The Wexfords at Emerald Greens\, Hastings\, MN at 6 PM
DESCRIPTION:Join us for a fun-filled evening painting Lucky Gnome on an 11 x 14 canvas at The Wexford at Emerald Greens in Hastings\, MN!  Whether you are a painting enthusiast or a beginner\, our talented artist will guide you Step by Step\, making this a perfect event for everyone! \nGrab your seats here: https://brushedbydesigncreations.com/product/0303luckygnome/ \nAll ages welcome and no experience needed. All Supplies included! Design will be sketched and ready to paint using acrylics. \nWHEN:\nTuesday\, March 3\n6:00 pm to 8:30 pm\nCOST: $35 per canvas \nThis paint party must be pre-paid. \nLOCATION: \nThe Wexford at Emerald Greens\nLower Level in the Sandtrap Room next to Bogey’s Pub\n14425 Goodwin Ave\nHastings\, MN 55033 \nCome hungry and help support an awesome venue who makes this Paint Party possible! Arrive at 5 pm to purchase dinner and drinks to enjoy (not included in the ticket price) in Bogey’s or where we will be painting in the lower level. \nSeats are limited so Register Early to save your Seat!
URL:https://brushedbydesigncreations.com/event/0303luckygnome/
LOCATION:The Wexford at Emerald Greens\, 14425 Goodwin Ave\, Hastings\, 55033\, United States
CATEGORIES:Paint Parties
ATTACH;FMTTYPE=image/jpeg:https://brushedbydesigncreations.com/wp-content/uploads/2026/01/03.03.26-Wexford-at-Emerald-Greens-paint-and-sip-paint-party-hastings-mn-social.jpg
END:VEVENT
END:VCALENDAR