BEGIN:VCALENDAR
VERSION:2.0
PRODID:-//Brushed by Design Creations LLC - ECPv6.15.20//NONSGML v1.0//EN
CALSCALE:GREGORIAN
METHOD:PUBLISH
X-WR-CALNAME:Brushed by Design Creations LLC
X-ORIGINAL-URL:https://brushedbydesigncreations.com
X-WR-CALDESC:Events for Brushed by Design Creations LLC
REFRESH-INTERVAL;VALUE=DURATION:PT1H
X-Robots-Tag:noindex
X-PUBLISHED-TTL:PT1H
BEGIN:VTIMEZONE
TZID:America/Chicago
BEGIN:DAYLIGHT
TZOFFSETFROM:-0600
TZOFFSETTO:-0500
TZNAME:CDT
DTSTART:20240310T080000
END:DAYLIGHT
BEGIN:STANDARD
TZOFFSETFROM:-0500
TZOFFSETTO:-0600
TZNAME:CST
DTSTART:20241103T070000
END:STANDARD
BEGIN:DAYLIGHT
TZOFFSETFROM:-0600
TZOFFSETTO:-0500
TZNAME:CDT
DTSTART:20250309T080000
END:DAYLIGHT
BEGIN:STANDARD
TZOFFSETFROM:-0500
TZOFFSETTO:-0600
TZNAME:CST
DTSTART:20251102T070000
END:STANDARD
BEGIN:DAYLIGHT
TZOFFSETFROM:-0600
TZOFFSETTO:-0500
TZNAME:CDT
DTSTART:20260308T080000
END:DAYLIGHT
BEGIN:STANDARD
TZOFFSETFROM:-0500
TZOFFSETTO:-0600
TZNAME:CST
DTSTART:20261101T070000
END:STANDARD
END:VTIMEZONE
BEGIN:VEVENT
DTSTART;TZID=America/Chicago:20251102T150000
DTEND;TZID=America/Chicago:20251102T173000
DTSTAMP:20260422T174107
CREATED:20250928T020910Z
LAST-MODIFIED:20250928T020910Z
UID:9967-1762095600-1762104600@brushedbydesigncreations.com
SUMMARY:11/02 Paint Sleigh Bells Ring at Rush River Brewing\, River Falls\, WI at 3 PM
DESCRIPTION:Join us for a fun-filled afternoon painting Sleigh Bells Ring on an 11 x 14 wrapped canvas at Rush River Brewing Company in River Falls\, WI! \nGrab your seats here: https://brushedbydesigncreations.com/product/1102sleighbellsring/ \nWhether you are a painting enthusiast or a beginner\, our talented artist will guide you Step by Step\, making this a perfect event for everyone! All supplies included! Design will be pre-sketched and ready to paint with acrylics. \nAll ages welcome and no experience needed. \nWHEN:\nSunday\, November 2\n3 pm to 5:30 pm\nCOST: $35 per canvas \nThis paint party must be pre-paid. \nLOCATION: \nRush River Brewing Company\n990 Antler Ct\nRiver Falls\,  WI 54022 \nBeverages are available for purchase. Come thirsty and help support an awesome venue that makes this Paint Party possible. Grab Dinner in town or have it delivered to eat before or during painting. (not included in ticket price) \nThis is an excellent opportunity to relax\, unwind\, and make memories with your friends and family. Experience FUN ART with family and friends at Rush River Brewing. \n\nWhat is a Paint Party\nA Paint Party  is a fun painting event\, guided by an experienced artist. No experience is needed. Our Paint Parties are easy to follow\, they’re made to be enjoyable\, socially interactive\, and memorable. \nReturn & Refund Policy \nTicket purchases are nonrefundable. If you are unable to attend and notify me within 48 hours prior to the event\, I will place you on my credit list. Please note that your credit must be used within 90 days or it is forfeited. You may also opt to have your canvas and paint sent home with your friend on the day of the event you signed up for. Brushes are not included. If the paint party has to be changed due to a force of nature\, we will reschedule or issue credit towards another paint party to be used within 90 days.
URL:https://brushedbydesigncreations.com/event/1102sleighbellsring/
LOCATION:Rush River Brewing Company\, 990 Antler Ct\, River Falls\, WI\, 54022\, United States
CATEGORIES:Paint Parties
ATTACH;FMTTYPE=image/jpeg:https://brushedbydesigncreations.com/wp-content/uploads/2025/09/Sleight-Bells-Ring-Small-small-pic.jpg
END:VEVENT
BEGIN:VEVENT
DTSTART;TZID=America/Chicago:20251025T130000
DTEND;TZID=America/Chicago:20251025T153000
DTSTAMP:20260422T174107
CREATED:20250923T021153Z
LAST-MODIFIED:20250923T021215Z
UID:9900-1761397200-1761406200@brushedbydesigncreations.com
SUMMARY:10/25/25 For You Boo Paint Party at The Confluence Hotel\, Hastings\, MN at 1 PM
DESCRIPTION:Join us for a fun-filled afternoon painting For You Boo on 11 x 14 canvas at The Confluence Hotel in Hastings\, MN! \nGrab your seats here: https://brushedbydesigncreations.com/product/1025foryouboo/ \nWhether you are a painting enthusiast or a beginner\, our talented artist will guide you Step by Step\, making this a perfect event for everyone! This is an excellent opportunity to relax\, unwind\, and make memories with your friends and family. \nAll ages welcome and no experience needed. Design will be sketched and ready to paint using acrylics. \n\nWHEN:\nSaturday\, October 25th\n1:00 PM – 3:30 PM\nCOST: $35 \nThis paint party must be pre-paid. \nLOCATION: \nThe Confluence Hotel\n200 2nd Street W\nHastings\, MN 55033 \nFood and beverage are available for purchase\, but not included in the ticket price. Come hungry and help support an awesome venue who makes this Paint Party possible! \n\nWhat is a Paint Party\nA Paint Party is a fun painting event\, guided by an experienced artist. No experience is needed. Our Paint Parties are easy to follow\, they’re made to be enjoyable\, socially interactive\, and memorable. \nReturn & Refund Policy \nTicket purchases are nonrefundable. If you are unable to attend and notify me at least 48 hours in advance\, I will place you on my credit list. Please note that your credit must be used within 90 days or it is forfeited. You may also opt to have your canvas and paint sent home with your friend on the day of the event you signed up for. Brushes are not included. If the paint party has to be changed due to a force of nature\, we will reschedule or issue credit towards another paint party to be used within 90 days.
URL:https://brushedbydesigncreations.com/event/1025foryouboo/
LOCATION:The Confluence Hotel\, 200 2nd Street West\, Hastings\, 55033\, United States
CATEGORIES:Paint Parties
ATTACH;FMTTYPE=image/jpeg:https://brushedbydesigncreations.com/wp-content/uploads/2025/09/10.25.25-The-Confluence-Hotel-paint-and-sip-paint-party-hastings-mn-social.jpg
END:VEVENT
BEGIN:VEVENT
DTSTART;TZID=America/Chicago:20251023T183000
DTEND;TZID=America/Chicago:20251023T203000
DTSTAMP:20260422T174107
CREATED:20250831T211526Z
LAST-MODIFIED:20250831T211526Z
UID:9708-1761244200-1761251400@brushedbydesigncreations.com
SUMMARY:10/23/25 Paint Whispers of Fall Gnome at Bayside Tap & Steakhouse\, Red Wing\, MN
DESCRIPTION:Join us for a fun-filled evening painting Whispers of Fall Gnome on an 11 x 14 canvas at Bayside Tap & Steakhouse\, Red Wing\, MN \nGrab your seats here: https://brushedbydesigncreations.com/product/1023whispersoffall/ \nWhether you are a painting enthusiast or a beginner\, our talented artist will guide you Step by Step\, making this a perfect event for everyone! This is an excellent opportunity to relax\, unwind\, and make memories with your friends and family. \nAll ages welcome and no experience needed. All Supplies included! Design will be sketched and ready to paint using acrylics. \nWHEN:\nThursday\, October 23\n6:30 pm to 8:30 pm\nCOST: $35 per canvas \nThis paint party must be pre-paid. \nLOCATION: \nBayside Tap & Steakhouse\n1516 Old West Main Street\nRed Wing\, MN \nFood and beverage are available for purchase in the restaurant\, but not included in the ticket price. Arrive early and come hungry to help support an awesome venue who makes this Paint Party possible. \nSeats are limited so Register Early to save your Seat! \n\nWhat is a Paint Party\nA Paint Party is a fun painting event\, guided by an experienced artist. No experience is needed. Our Paint Parties are easy to follow\, they’re made to be enjoyable\, socially interactive\, and memorable. \nReturn & Refund Policy \nTicket purchases are nonrefundable. If you are unable to attend and notify me at least 48 hours in advance\, I will place you on my credit list. Please note that your credit must be used within 90 days or it is forfeited. You may also opt to have your canvas and paint sent home with your friend on the day of the event you signed up for. Brushes are not included. If the paint party has to be changed due to a force of nature\, we will reschedule or issue credit towards another paint party to be used within 90 days.
URL:https://brushedbydesigncreations.com/event/1023whispersoffall/
LOCATION:Bayside Tap & Steakhouse\, 1516 Old West Main Street\, Red Wing\, MN\, 55066\, United States
CATEGORIES:Paint Parties
ATTACH;FMTTYPE=image/jpeg:https://brushedbydesigncreations.com/wp-content/uploads/2025/08/10.23-Bayside-Tap-Steakhouse-Paint-and-Sip-Paint-Party-Red-Wing-MN-Social.jpg
END:VEVENT
END:VCALENDAR