BEGIN:VCALENDAR
VERSION:2.0
PRODID:-//Brushed by Design Creations LLC - ECPv6.15.20//NONSGML v1.0//EN
CALSCALE:GREGORIAN
METHOD:PUBLISH
X-WR-CALNAME:Brushed by Design Creations LLC
X-ORIGINAL-URL:https://brushedbydesigncreations.com
X-WR-CALDESC:Events for Brushed by Design Creations LLC
REFRESH-INTERVAL;VALUE=DURATION:PT1H
X-Robots-Tag:noindex
X-PUBLISHED-TTL:PT1H
BEGIN:VTIMEZONE
TZID:America/Chicago
BEGIN:DAYLIGHT
TZOFFSETFROM:-0600
TZOFFSETTO:-0500
TZNAME:CDT
DTSTART:20250309T080000
END:DAYLIGHT
BEGIN:STANDARD
TZOFFSETFROM:-0500
TZOFFSETTO:-0600
TZNAME:CST
DTSTART:20251102T070000
END:STANDARD
BEGIN:DAYLIGHT
TZOFFSETFROM:-0600
TZOFFSETTO:-0500
TZNAME:CDT
DTSTART:20260308T080000
END:DAYLIGHT
BEGIN:STANDARD
TZOFFSETFROM:-0500
TZOFFSETTO:-0600
TZNAME:CST
DTSTART:20261101T070000
END:STANDARD
BEGIN:DAYLIGHT
TZOFFSETFROM:-0600
TZOFFSETTO:-0500
TZNAME:CDT
DTSTART:20270314T080000
END:DAYLIGHT
BEGIN:STANDARD
TZOFFSETFROM:-0500
TZOFFSETTO:-0600
TZNAME:CST
DTSTART:20271107T070000
END:STANDARD
END:VTIMEZONE
BEGIN:VEVENT
DTSTART;TZID=America/Chicago:20260608T183000
DTEND;TZID=America/Chicago:20260608T210000
DTSTAMP:20260421T155326
CREATED:20260410T010211Z
LAST-MODIFIED:20260410T010211Z
UID:12021-1780943400-1780952400@brushedbydesigncreations.com
SUMMARY:06/08/26 Paint Gnome of the Brave at Jersey's Bar & Grill\, Inver Grove Heights\, MN at 6:30 PM
DESCRIPTION:Join us for a fun-filled evening painting Gnome of the Brave on 11 x 14 at Jersey’s Bar & Grill in Inver Grove Heights\, MN! \nGrab your seats here: https://brushedbydesigncreations.com/product/0608gnomeofthebrave/ \nWhether you are a painting enthusiast or a beginner\, our talented artist will guide you Step by Step\, making this a perfect event for everyone! All ages welcome and no experience needed. All Supplies included! Canvas will be pre-sketched and ready to paint in Acrylics. \nWHEN:\nMonday\, June 8\n6:30 pm to 9:00 pm\nCOST: $35 \nThis paint party must be pre-paid. \nLOCATION: \nJersey’s Bar & Grill\n6449 Concord Blvd\nInver Grove Heights\, MN 55076 \nFood and beverage are available for purchase\, but not included in the ticket price. Come hungry and help support Jersey’s Bar & Grill\, an awesome venue who makes this Paint Party possible. \nThis is an excellent opportunity to relax\, unwind\, and make memories with your friends and family. Experience FUN ART at Jersey’s Bar & Grill. \nSeats are limited so Register Early to save your Seat!
URL:https://brushedbydesigncreations.com/event/0608gnomeofthebrave/
LOCATION:Jersey’s Bar & Grill\, 6449 Concord Blvd\, Inver Grove Heights\, MN\, 55076\, United States
CATEGORIES:Paint Parties
ATTACH;FMTTYPE=image/jpeg:https://brushedbydesigncreations.com/wp-content/uploads/2026/04/06.08.26-Jerseys-Bar-Grill-paint-and-sip-paint-party-inver-grove-heights-mn-social.jpg
END:VEVENT
END:VCALENDAR