BEGIN:VCALENDAR
VERSION:2.0
PRODID:-//Brushed by Design Creations LLC - ECPv6.15.20//NONSGML v1.0//EN
CALSCALE:GREGORIAN
METHOD:PUBLISH
X-WR-CALNAME:Brushed by Design Creations LLC
X-ORIGINAL-URL:https://brushedbydesigncreations.com
X-WR-CALDESC:Events for Brushed by Design Creations LLC
REFRESH-INTERVAL;VALUE=DURATION:PT1H
X-Robots-Tag:noindex
X-PUBLISHED-TTL:PT1H
BEGIN:VTIMEZONE
TZID:America/Chicago
BEGIN:DAYLIGHT
TZOFFSETFROM:-0600
TZOFFSETTO:-0500
TZNAME:CDT
DTSTART:20250309T080000
END:DAYLIGHT
BEGIN:STANDARD
TZOFFSETFROM:-0500
TZOFFSETTO:-0600
TZNAME:CST
DTSTART:20251102T070000
END:STANDARD
BEGIN:DAYLIGHT
TZOFFSETFROM:-0600
TZOFFSETTO:-0500
TZNAME:CDT
DTSTART:20260308T080000
END:DAYLIGHT
BEGIN:STANDARD
TZOFFSETFROM:-0500
TZOFFSETTO:-0600
TZNAME:CST
DTSTART:20261101T070000
END:STANDARD
BEGIN:DAYLIGHT
TZOFFSETFROM:-0600
TZOFFSETTO:-0500
TZNAME:CDT
DTSTART:20270314T080000
END:DAYLIGHT
BEGIN:STANDARD
TZOFFSETFROM:-0500
TZOFFSETTO:-0600
TZNAME:CST
DTSTART:20271107T070000
END:STANDARD
END:VTIMEZONE
BEGIN:VEVENT
DTSTART;TZID=America/Chicago:20260519T180000
DTEND;TZID=America/Chicago:20260519T203000
DTSTAMP:20260421T141929
CREATED:20260407T022436Z
LAST-MODIFIED:20260407T022436Z
UID:11987-1779213600-1779222600@brushedbydesigncreations.com
SUMMARY:05/19/26 Paint Bear in the Breeze at The Wexford at Emerald Greens in Hastings\, MN at 6 PM
DESCRIPTION:Join us for a fun-filled evening painting Bear in the Breeze on 12 x 12 canvas at The Wexford at Emerald Greens in Hastings\, MN! \nGrab your seats here: https://brushedbydesigncreations.com/product/0519bearinthebreeze/ \nWhether you are a painting enthusiast or a beginner\, our talented artist will guide you Step by Step\, making this a perfect event for everyone! \nAll ages welcome and no experience needed. All Supplies included! Design will be sketched and ready to paint using acrylics. \nWHEN:\nTuesday\, May 19\n6:00 pm to 8:30 pm\nCOST: $35 per canvas \nThis paint party must be pre-paid. \nLOCATION: \nThe Wexford at Emerald Greens\nLower Level in the Sandtrap Room next to Bogey’s Pub (elevator available)\n14425 Goodwin Ave\nHastings\, MN 55033 \nCome hungry and help support an awesome venue who makes this Paint Party possible! Arrive at 5 pm to purchase dinner and drinks to enjoy (not included in the ticket price) in Bogey’s or where we will be painting in the lower level. \nSeats are limited so Register Early to save your Seat!
URL:https://brushedbydesigncreations.com/event/0519bearinthebreeze/
LOCATION:The Wexford at Emerald Greens\, 14425 Goodwin Ave\, Hastings\, 55033\, United States
CATEGORIES:Paint Parties
ATTACH;FMTTYPE=image/jpeg:https://brushedbydesigncreations.com/wp-content/uploads/2026/04/05.19.26-Wexfords-of-Emerald-Greens-paint-and-sip-paint-party-hastings-mn-social.jpg
END:VEVENT
END:VCALENDAR