BEGIN:VCALENDAR
VERSION:2.0
PRODID:-//Brushed by Design Creations LLC - ECPv6.15.20//NONSGML v1.0//EN
CALSCALE:GREGORIAN
METHOD:PUBLISH
X-ORIGINAL-URL:https://brushedbydesigncreations.com
X-WR-CALDESC:Events for Brushed by Design Creations LLC
REFRESH-INTERVAL;VALUE=DURATION:PT1H
X-Robots-Tag:noindex
X-PUBLISHED-TTL:PT1H
BEGIN:VTIMEZONE
TZID:America/Chicago
BEGIN:DAYLIGHT
TZOFFSETFROM:-0600
TZOFFSETTO:-0500
TZNAME:CDT
DTSTART:20250309T080000
END:DAYLIGHT
BEGIN:STANDARD
TZOFFSETFROM:-0500
TZOFFSETTO:-0600
TZNAME:CST
DTSTART:20251102T070000
END:STANDARD
BEGIN:DAYLIGHT
TZOFFSETFROM:-0600
TZOFFSETTO:-0500
TZNAME:CDT
DTSTART:20260308T080000
END:DAYLIGHT
BEGIN:STANDARD
TZOFFSETFROM:-0500
TZOFFSETTO:-0600
TZNAME:CST
DTSTART:20261101T070000
END:STANDARD
BEGIN:DAYLIGHT
TZOFFSETFROM:-0600
TZOFFSETTO:-0500
TZNAME:CDT
DTSTART:20270314T080000
END:DAYLIGHT
BEGIN:STANDARD
TZOFFSETFROM:-0500
TZOFFSETTO:-0600
TZNAME:CST
DTSTART:20271107T070000
END:STANDARD
END:VTIMEZONE
BEGIN:VEVENT
DTSTART;TZID=America/Chicago:20260426T180000
DTEND;TZID=America/Chicago:20260426T200000
DTSTAMP:20260421T124635
CREATED:20260305T010350Z
LAST-MODIFIED:20260305T010350Z
UID:11699-1777226400-1777233600@brushedbydesigncreations.com
SUMMARY:04/26/26 Create Crushed Glass & Resin Sun Catcher at Tops Pizza & Grill in Rosemount\, MN at 6 PM
DESCRIPTION:Join us for a fun-filled evening making the Crushed Glass & Resin Sun Catchers in your choice of Design at Tops Pizza & Grill in Rosemount\, MN! Enjoy a relaxed evening getting creative with friends and family. \nGrab your seats here: https://brushedbydesigncreations.com/product/0426glassresinsuncatcher/ \nWhat’s included: \n\nCrushed Glass and Resin Supplies (low VOC for no odor)\nStep by step instruction\nYour 12″ Wood template\nSafety Gloves (Masks available upon request)\nAll ages welcome and no experience needed. Take yours home that night!\n\nCOST: $55 \nThis event must be pre-paid. \nWHEN:\nSunday\, April 26\n6:00pm to  8:00 pm \nLOCATION: \nTops Pizza & Grill\n14533 Dodd Blvd\nRosemount\, MN \nFood and beverage are available for purchase\, but not included in the ticket price. Come hungry and help support an awesome venue who makes this Paint Party possible. \nThis is an excellent opportunity to relax\, unwind\, and make memories with your friends and family. Experience FUN ART at Tops Pizza & Grill. \nSeats are limited so Register Early to save your Seat! \nRETURN & REFUND POLICY\n\nTicket purchases are nonrefundable. If you are unable to attend and notify me within 48 hours prior to the event\, I will place you on my credit list. Please note that your credit must be used within 90 days or it is forfeited. You may also opt to have your canvas and paint sent home with your friend on the day of the event you signed up for. Brushes are not included. \nIf the paint party has to be changed due to a force of nature\, we will reschedule or issue credit towards another paint party to be used within 90 days.
URL:https://brushedbydesigncreations.com/event/0426glassresinsuncatcher/
LOCATION:Tops Pizza & Grill\, 14533 Dodd Blvd\, Rosemount\, MN\, 55068\, United States
CATEGORIES:Art Party,Paint Parties
ATTACH;FMTTYPE=image/jpeg:https://brushedbydesigncreations.com/wp-content/uploads/2026/03/04.26.26-Tops-Pizza-Grill-Crushed-Glass-Resin-Sun-Catcher-Art-Party-Rosemount-MN-social.jpg
END:VEVENT
END:VCALENDAR