BEGIN:VCALENDAR
VERSION:2.0
PRODID:-//Brushed by Design Creations LLC - ECPv6.15.20//NONSGML v1.0//EN
CALSCALE:GREGORIAN
METHOD:PUBLISH
X-WR-CALNAME:Brushed by Design Creations LLC
X-ORIGINAL-URL:https://brushedbydesigncreations.com
X-WR-CALDESC:Events for Brushed by Design Creations LLC
REFRESH-INTERVAL;VALUE=DURATION:PT1H
X-Robots-Tag:noindex
X-PUBLISHED-TTL:PT1H
BEGIN:VTIMEZONE
TZID:America/Chicago
BEGIN:DAYLIGHT
TZOFFSETFROM:-0600
TZOFFSETTO:-0500
TZNAME:CDT
DTSTART:20250309T080000
END:DAYLIGHT
BEGIN:STANDARD
TZOFFSETFROM:-0500
TZOFFSETTO:-0600
TZNAME:CST
DTSTART:20251102T070000
END:STANDARD
BEGIN:DAYLIGHT
TZOFFSETFROM:-0600
TZOFFSETTO:-0500
TZNAME:CDT
DTSTART:20260308T080000
END:DAYLIGHT
BEGIN:STANDARD
TZOFFSETFROM:-0500
TZOFFSETTO:-0600
TZNAME:CST
DTSTART:20261101T070000
END:STANDARD
BEGIN:DAYLIGHT
TZOFFSETFROM:-0600
TZOFFSETTO:-0500
TZNAME:CDT
DTSTART:20270314T080000
END:DAYLIGHT
BEGIN:STANDARD
TZOFFSETFROM:-0500
TZOFFSETTO:-0600
TZNAME:CST
DTSTART:20271107T070000
END:STANDARD
END:VTIMEZONE
BEGIN:VEVENT
DTSTART;TZID=America/Chicago:20260228T130000
DTEND;TZID=America/Chicago:20260228T150000
DTSTAMP:20260421T155922
CREATED:20260115T022716Z
LAST-MODIFIED:20260115T022716Z
UID:11148-1772283600-1772290800@brushedbydesigncreations.com
SUMMARY:02/28/26 Paint Flutter & Bloom at Apple Valley American Legion at 1 PM
DESCRIPTION:Join us for a fun-filled afternoon painting Flutter & Bloom on an 11 x 14 wrapped canvas at American Legion in Apple Valley\, MN! \nGrab your seats here: https://brushedbydesigncreations.com/product/0228flutterandbloom/ \nWhether you are a painting enthusiast or a beginner\, our talented artist will guide you Step by Step\, making this a perfect event for everyone! \nAll ages welcome and no experience needed. Design will be pre-sketched and ready to paint with acrylics. All supplies are included so you can complete your masterpiece! \nCOST: $35 per painter \nThis paint party must be pre-paid. \nWHEN:\nSaturday\, February 28th\n1 PM to 3 PM \nLOCATION:  \nAmerican Legion Apple Valley\n14521 Granada Dr.\nApple Valley\, MN \nI encourage you to arrive early to order food and beverages (not included in Ticket Price) to help support an awesome venue that makes this Paint Party possible. \nThis is an excellent opportunity to relax\, unwind\, and make memories with your friends and family. So\, gather up your friends and your family and let’s paint together! \n\nRETURN & REFUND POLICY\n\nTicket purchases are nonrefundable. If you are unable to attend and notify me within 48 hours prior to the event\, I will place you on my credit list. Please note that your credit must be used within 90 days or it is forfeited. You may also opt to have your canvas and paint sent home with your friend on the day of the event you signed up for. Brushes are not included. \nIf the paint party has to be changed due to a force of nature\, we will reschedule or issue credit towards another paint party to be used within 90 days.
URL:https://brushedbydesigncreations.com/event/0228flutterandbloom/
LOCATION:Apple Valley American Legion\, 14521 Granada Dr.\, Apple Valley\, MN\, United States
CATEGORIES:Paint Parties
ATTACH;FMTTYPE=image/jpeg:https://brushedbydesigncreations.com/wp-content/uploads/2026/01/02.28.26-American-Legion-Apple-Valley-MN-paint-and-sip-paint-party-Social.jpg
END:VEVENT
END:VCALENDAR