BEGIN:VCALENDAR
VERSION:2.0
PRODID:-//Brushed by Design Creations LLC - ECPv6.15.20//NONSGML v1.0//EN
CALSCALE:GREGORIAN
METHOD:PUBLISH
X-ORIGINAL-URL:https://brushedbydesigncreations.com
X-WR-CALDESC:Events for Brushed by Design Creations LLC
REFRESH-INTERVAL;VALUE=DURATION:PT1H
X-Robots-Tag:noindex
X-PUBLISHED-TTL:PT1H
BEGIN:VTIMEZONE
TZID:America/Chicago
BEGIN:DAYLIGHT
TZOFFSETFROM:-0600
TZOFFSETTO:-0500
TZNAME:CDT
DTSTART:20250309T080000
END:DAYLIGHT
BEGIN:STANDARD
TZOFFSETFROM:-0500
TZOFFSETTO:-0600
TZNAME:CST
DTSTART:20251102T070000
END:STANDARD
BEGIN:DAYLIGHT
TZOFFSETFROM:-0600
TZOFFSETTO:-0500
TZNAME:CDT
DTSTART:20260308T080000
END:DAYLIGHT
BEGIN:STANDARD
TZOFFSETFROM:-0500
TZOFFSETTO:-0600
TZNAME:CST
DTSTART:20261101T070000
END:STANDARD
BEGIN:DAYLIGHT
TZOFFSETFROM:-0600
TZOFFSETTO:-0500
TZNAME:CDT
DTSTART:20270314T080000
END:DAYLIGHT
BEGIN:STANDARD
TZOFFSETFROM:-0500
TZOFFSETTO:-0600
TZNAME:CST
DTSTART:20271107T070000
END:STANDARD
END:VTIMEZONE
BEGIN:VEVENT
DTSTART;TZID=America/Chicago:20260226T183000
DTEND;TZID=America/Chicago:20260226T210000
DTSTAMP:20260421T173607
CREATED:20260125T040304Z
LAST-MODIFIED:20260125T040304Z
UID:11255-1772130600-1772139600@brushedbydesigncreations.com
SUMMARY:02/26/26 Paint the Spring Cardinal at Cannon River Winery\, Cannon Falls\, MN at 6:30 PM
DESCRIPTION:Join us on Thursday\, February 26th at 6:30pm at Cannon River Winery for a fun-filled evening painting the Spring Cardinal on 11 x 14 Canvas! \nGrab your seats here: https://brushedbydesigncreations.com/product/0226springcardinal/ \nWhether you are a painting enthusiast or a beginner\, our talented artist will guide you step by step\, making this a perfect event for everyone. All ages welcome and no experience needed. Design will be sketched and ready to paint using acrylics. \nWHEN:\nThursday\, February 26th\n6:30 pm to 9 pm\nCOST: $35 per canvas \nThis paint party must be pre-paid. \nLOCATION: \nCannon River Winery\n421 Mill Street West\nCannon Falls\, MN 55009 \nThis is an excellent opportunity to relax\, unwind\, and make memories with your friends and family. Lots of fun and everyone leaves with a finished painting! You don’t want to miss out on this amazing event! \nFood and beverage are available for purchase\, but not included in the ticket price. Arrive early and come hungry to help support an awesome venue that makes this Paint Party possible. \nPLEASE NOTE: Arrive at least 10 minutes early to get prepped for painting. \nSeats are limited so Register Early to save your Seat!
URL:https://brushedbydesigncreations.com/event/0226springcardinal/
LOCATION:Cannon River Winery\, 421 Mill Street West\, Cannon Falls\, Minnesota\, 55009
CATEGORIES:Paint Parties
ATTACH;FMTTYPE=image/jpeg:https://brushedbydesigncreations.com/wp-content/uploads/2026/01/02.26.26-Cannon-River-Winery-paint-and-sip-paint-party-Cannon-Falls-MN-Social.jpg
END:VEVENT
END:VCALENDAR