BEGIN:VCALENDAR
VERSION:2.0
PRODID:-//Brushed by Design Creations LLC - ECPv6.15.20//NONSGML v1.0//EN
CALSCALE:GREGORIAN
METHOD:PUBLISH
X-WR-CALNAME:Brushed by Design Creations LLC
X-ORIGINAL-URL:https://brushedbydesigncreations.com
X-WR-CALDESC:Events for Brushed by Design Creations LLC
REFRESH-INTERVAL;VALUE=DURATION:PT1H
X-Robots-Tag:noindex
X-PUBLISHED-TTL:PT1H
BEGIN:VTIMEZONE
TZID:America/Chicago
BEGIN:DAYLIGHT
TZOFFSETFROM:-0600
TZOFFSETTO:-0500
TZNAME:CDT
DTSTART:20250309T080000
END:DAYLIGHT
BEGIN:STANDARD
TZOFFSETFROM:-0500
TZOFFSETTO:-0600
TZNAME:CST
DTSTART:20251102T070000
END:STANDARD
BEGIN:DAYLIGHT
TZOFFSETFROM:-0600
TZOFFSETTO:-0500
TZNAME:CDT
DTSTART:20260308T080000
END:DAYLIGHT
BEGIN:STANDARD
TZOFFSETFROM:-0500
TZOFFSETTO:-0600
TZNAME:CST
DTSTART:20261101T070000
END:STANDARD
BEGIN:DAYLIGHT
TZOFFSETFROM:-0600
TZOFFSETTO:-0500
TZNAME:CDT
DTSTART:20270314T080000
END:DAYLIGHT
BEGIN:STANDARD
TZOFFSETFROM:-0500
TZOFFSETTO:-0600
TZNAME:CST
DTSTART:20271107T070000
END:STANDARD
END:VTIMEZONE
BEGIN:VEVENT
DTSTART;TZID=America/Chicago:20260221T130000
DTEND;TZID=America/Chicago:20260221T153000
DTSTAMP:20260421T155748
CREATED:20260108T030249Z
LAST-MODIFIED:20260108T030249Z
UID:11069-1771678800-1771687800@brushedbydesigncreations.com
SUMMARY:02/21/26 Crushed Glass & Resin Sun Catchers at Overboard Bar & Grill\, Inver Grove Heights\, MN at 1 PM
DESCRIPTION:Join us for a fun-filled afternoon making these fun Crushed Glass & Resin Sun-catchers in your choice of  Design at Overboard Bar & Grill in Inver Grove Heights\, MN! Enjoy a relaxed afternoon getting creative with friends and family. \nGrab your seats here: HERE \nWhat’s included: \n\nCrushed Glass and Resin Supplies (low VOC for no odor)\nStep by step instruction\nYour 12″ Wood template\nSafety Gloves (Masks available upon request)\nAll ages welcome and no experience needed. Take yours home that night!\n\nCOST: $55 \nThis event must be pre-paid. \nWHEN:\nSaturday\, February 21\n1:00 pm to  3:30 pm \nLOCATION: \nOverboard Bar & Grill\n4455 64th St E\nInver Grove Heights\, MN \nI encourage you to come hungry (not included in Ticket Price) to help support Overboard Bar & Grill\, an awesome venue that makes this workshop possible. Plan to stay for about an hour after we pour the resin so that the Resin starts to cure. You will need to warm up the car and plan on taking your Sun Catcher home so that it does not sit in a cold car. \nThis is an excellent opportunity to relax\, unwind\, and make memories with your friends and family. So\, gather up your friends and your family and let’s create together! Experience Fun Art! \n\nRETURN & REFUND POLICY\n\nTicket purchases are nonrefundable. If you are unable to attend and notify me within 48 hours prior to the event\, I will place you on my credit list. Please note that your credit must be used within 90 days or it is forfeited. You may also opt to have your Supplies sent home with your friend on the day of the event you signed up for. Brushes are not included. \nIf the Art party has to be changed due to a force of nature\, we will reschedule or issue credit towards another Art party to be used within 90 days.
URL:https://brushedbydesigncreations.com/event/0221suncatchers/
LOCATION:Overboard Bar & Grill\, 4455 64th St E\, Inver Grove Heights\, Minnesota\, 55076
CATEGORIES:Paint Parties
ATTACH;FMTTYPE=image/jpeg:https://brushedbydesigncreations.com/wp-content/uploads/2026/01/02.21.26-Overboard-Bar-Grill-Crushed-Glass-Resin-Sun-Catchers-Inver-Grove-Heights-MN-social.jpg
END:VEVENT
END:VCALENDAR