BEGIN:VCALENDAR
VERSION:2.0
PRODID:-//Brushed by Design Creations LLC - ECPv6.15.20//NONSGML v1.0//EN
CALSCALE:GREGORIAN
METHOD:PUBLISH
X-WR-CALNAME:Brushed by Design Creations LLC
X-ORIGINAL-URL:https://brushedbydesigncreations.com
X-WR-CALDESC:Events for Brushed by Design Creations LLC
REFRESH-INTERVAL;VALUE=DURATION:PT1H
X-Robots-Tag:noindex
X-PUBLISHED-TTL:PT1H
BEGIN:VTIMEZONE
TZID:America/Chicago
BEGIN:DAYLIGHT
TZOFFSETFROM:-0600
TZOFFSETTO:-0500
TZNAME:CDT
DTSTART:20250309T080000
END:DAYLIGHT
BEGIN:STANDARD
TZOFFSETFROM:-0500
TZOFFSETTO:-0600
TZNAME:CST
DTSTART:20251102T070000
END:STANDARD
BEGIN:DAYLIGHT
TZOFFSETFROM:-0600
TZOFFSETTO:-0500
TZNAME:CDT
DTSTART:20260308T080000
END:DAYLIGHT
BEGIN:STANDARD
TZOFFSETFROM:-0500
TZOFFSETTO:-0600
TZNAME:CST
DTSTART:20261101T070000
END:STANDARD
BEGIN:DAYLIGHT
TZOFFSETFROM:-0600
TZOFFSETTO:-0500
TZNAME:CDT
DTSTART:20270314T080000
END:DAYLIGHT
BEGIN:STANDARD
TZOFFSETFROM:-0500
TZOFFSETTO:-0600
TZNAME:CST
DTSTART:20271107T070000
END:STANDARD
END:VTIMEZONE
BEGIN:VEVENT
DTSTART;TZID=America/Chicago:20260104T150000
DTEND;TZID=America/Chicago:20260104T173000
DTSTAMP:20260421T155713
CREATED:20260103T014936Z
LAST-MODIFIED:20260103T031658Z
UID:10905-1767538800-1767547800@brushedbydesigncreations.com
SUMMARY:01/04/26 Paint Found a Friend at Rush River Brewing\, River Falls\, WI at 3 PM
DESCRIPTION:Join us for a fun-filled afternoon painting Found a Friend on an 11 x 14 wrapped canvas at Rush River Brewing Company in River Falls\, WI! \nGrab your seats here: Sign up here \nWhether you are a painting enthusiast or a beginner\, our talented artist will guide you Step by Step\, making this a perfect event for everyone! All supplies included! Design will be pre-sketched and ready to paint with acrylics. \nAll ages welcome and no experience needed. \nWHEN:\nSunday\, January 4\n3 pm to 5:30 pm\nCOST: $35 per canvas \nThis paint party must be pre-paid. \nLOCATION: \nRush River Brewing Company\n990 Antler Ct\nRiver Falls\,  WI 54022 \nBeverages are available for purchase. Come thirsty and help support an awesome venue that makes this Paint Party possible. Grab Dinner in town or have it delivered to eat before or during painting. (not included in ticket price) \nThis is an excellent opportunity to relax\, unwind\, and make memories with your friends and family. Experience FUN ART with family and friends at Rush River Brewing. \nPLEASE NOTE: Arrive at least 10 minutes early to get prepped for painting. \n\nSeats are limited so Register Early to save your Seat! \n*This is a no return\, no refund product. Please see policy terms
URL:https://brushedbydesigncreations.com/event/0104foundafriend/
LOCATION:Rush River Brewing Company\, 990 Antler Ct\, River Falls\, WI\, 54022\, United States
CATEGORIES:Paint Parties
ATTACH;FMTTYPE=image/jpeg:https://brushedbydesigncreations.com/wp-content/uploads/2025/11/01.04.26-Rush-River-Brewing-Paint-and-Sip-Paint-Party-River-Falls-WI-social.jpg
END:VEVENT
BEGIN:VEVENT
DTSTART;TZID=America/Chicago:20260105T183000
DTEND;TZID=America/Chicago:20260105T210000
DTSTAMP:20260421T155713
CREATED:20260103T015403Z
LAST-MODIFIED:20260103T031550Z
UID:10907-1767637800-1767646800@brushedbydesigncreations.com
SUMMARY:01/05/26 Paint Silver Snowfall at Omni Winery & Taproom\, Rosemount
DESCRIPTION:Join us at Omni Winery & Taproom for a fun-filled afternoon painting Silver Snowflake on an 11 x 14 canvas! \nGrab your seats here: Sign up here \nWhether you are a painting enthusiast or a beginner\, our talented artist will guide you step by step\, making this a perfect event for everyone. All ages welcome and no experience needed. Design will be sketched and ready to paint using acrylics. \nThis is an excellent opportunity to relax\, unwind\, and make memories with your friends and family. Lots of fun and everyone leaves with a finished painting! \nWHEN:\nMonday\, January 5th\n6: 30 pm – 9:00 PM\nCOST: $35 \nThis paint party must be pre-paid. \nLOCATION: \nOMNI Winery & Taproom\n15701 Biscayne Ave\n Rosemount\, MN 55068 \nCome early to order food and drinks and help support Omni Winery & Taproom\, an awesome venue that makes this paint party possible! (not included in ticket price) \n\n\nPLEASE NOTE: Arrive at least 10 minutes early to get prepped for painting. \n\nSeats are limited so Register Early to save your Seat! \n*Sorry this is a no return or refund product.*  Please see policy terms
URL:https://brushedbydesigncreations.com/event/0105silversnowfall/
LOCATION:Omni Brewery and Taproom\, 15701 Biscayne Ave\, Rosemount\, Minnesota\, 55068
CATEGORIES:Paint Parties
ATTACH;FMTTYPE=image/jpeg:https://brushedbydesigncreations.com/wp-content/uploads/2025/12/01.05.26-Omni-Winery-and-Taproom-Paint-and-Sip-Paint-Party-Rosemount-MN-social-1.jpg
END:VEVENT
BEGIN:VEVENT
DTSTART;TZID=America/Chicago:20260112T183000
DTEND;TZID=America/Chicago:20260112T210000
DTSTAMP:20260421T155713
CREATED:20260103T015851Z
LAST-MODIFIED:20260103T031448Z
UID:10909-1768242600-1768251600@brushedbydesigncreations.com
SUMMARY:01/12/26 Paint Winter Solstice at Jersey's Bar & Grill\, Inver Grove Heights\, at 6:30 PM
DESCRIPTION:Join us for a fun-filled evening painting Winter Solstice on an 11 x 14 Canvas at Jersey’s Bar & Grill in Inver Grove Heights\, MN! \nGrab your seats here:Sign up here \nWhether you are a painting enthusiast or a beginner\, our talented artist will guide you Step by Step\, making this a perfect event for everyone! All ages welcome and no experience needed. All Supplies included! \nWHEN:\nMonday\, January 12\n6:30 pm to 9:00 pm\nCOST: $35 \nThis paint party must be pre-paid. \nLOCATION: \nJersey’s Bar & Grill\n6449 Concord Blvd\nInver Grove Heights\, MN 55076 \nFood and beverage are available for purchase\, but not included in the ticket price. Come hungry and help support Jersey’s Bar & Grill\, an awesome venue who makes this Paint Party possible. \nThis is an excellent opportunity to relax\, unwind\, and make memories with your friends and family. Experience FUN ART at Jersey’s Bar & Grill. \nSeats are limited so Register Early to save your Seat! \n\nReturn & Refund Policy \nTicket purchases are nonrefundable. If you are unable to attend and notify me at least 48 hours in advance\, I will place you on my credit list. Please note that your credit must be used within 90 days or it is forfeited. You may also opt to have your canvas and paint sent home with your friend on the day of the event you signed up for. Brushes are not included. If the paint party has to be changed due to a force of nature\, we will reschedule or issue credit towards another paint party to be used within 90 days.
URL:https://brushedbydesigncreations.com/event/0112wintersolstice/
LOCATION:Jersey’s Bar & Grill\, 6449 Concord Blvd\, Inver Grove Heights\, MN\, 55076\, United States
CATEGORIES:Paint Parties
ATTACH;FMTTYPE=image/jpeg:https://brushedbydesigncreations.com/wp-content/uploads/2025/11/01.12.26-Jerseys-Bar-Grill-Paint-and-Sip-Paint-Party-Inver-Grove-Heights-MN-Social.jpg
END:VEVENT
BEGIN:VEVENT
DTSTART;TZID=America/Chicago:20260113T183000
DTEND;TZID=America/Chicago:20260113T210000
DTSTAMP:20260421T155713
CREATED:20260103T020211Z
LAST-MODIFIED:20260103T031400Z
UID:10911-1768329000-1768338000@brushedbydesigncreations.com
SUMMARY:01/13/26 Paint Winter Barn at Hay Creek Saloon in Red Wing
DESCRIPTION:Join us for a fun-filled evening painting  this gorgeous Winter Barn on an 12 x 12 Canvas at Hay Creek Saloon in Red Wing\, MN! \nGrab your seats here: Sign up here \nWhether you are a painting enthusiast or a beginner\, our talented artist will guide you Step by Step\, making this a perfect event for everyone! \nAll ages welcome and no experience needed. All supplies are included so you can complete your masterpiece! \nWHEN:\nTuesday\, January 13\n6:30pm to 9:00pm\nCOST: $35 \nThis paint party must be pre-paid. \nLOCATION: \nHay Creek Campground & Old Western Saloon\n31655 MN-58\n Red Wing\, MN 55066 \nFood and beverage are available for purchase\, but not included in the ticket price. Come hungry and help support Hay Creek Saloon\, an awesome venue that makes this Paint Party possible. \nThis is an excellent opportunity to relax\, unwind\, and make memories with your friends and family. Experience FUN ART at Hay Creek Saloon! \nReturn & Refund Policy  \nPlease note that ticket sales are nonrefundable\, but we are happy to reschedule you for another event with a minimum of 48 hours notice. Please note that your credit must be used within 90 days or it is forfeited. You may also opt to have your canvas and paint sent home with your friend on the day of the event you signed up for. Brushes are not included. If the paint party has to be changed due to a force of nature\, we will reschedule or issue credit towards another paint party to be used within 90 days.
URL:https://brushedbydesigncreations.com/event/0113winterbarn/
LOCATION:Haycreek Campground & Old Western Saloon\, 31655 MN-58\, Red Wing\, MN\, 55066\, United States
CATEGORIES:Paint Parties
ATTACH;FMTTYPE=image/jpeg:https://brushedbydesigncreations.com/wp-content/uploads/2025/11/01.13.26-HayCreek-Campground-MN-Paint-and-Sip-Paint-Party-Red-Wing-MN-Social.jpg
END:VEVENT
BEGIN:VEVENT
DTSTART;TZID=America/Chicago:20260115T183000
DTEND;TZID=America/Chicago:20260115T210000
DTSTAMP:20260421T155713
CREATED:20260103T020605Z
LAST-MODIFIED:20260103T031314Z
UID:10913-1768501800-1768510800@brushedbydesigncreations.com
SUMMARY:01/15/26 Paint Found a Friend at Spiral Brewery in Hastings\, MN
DESCRIPTION:Join us for a fun-filled evening painting this fun Found A friend Snowman and Fox on an 11 x 14 wrapped canvas at Spiral Brewery in Hastings\, MN! \nGrab your seats here: Sign up here \nWhether you are a painting enthusiast or a beginner\, our talented artist will guide you Step by Step\, making this a perfect event for everyone! \nAll ages welcome and no experience needed. Design will be pre-sketched and ready to paint with acrylics. All supplies are included so you can complete your masterpiece! \nCOST: $40 per painter \nThis paint party must be pre-paid. \nWHEN:\nThursday\, January 15\n6:30pm to  9:00 pm \nLOCATION: \nSpiral Brewery\n111 2nd Street\nHastings\, MN 55033 \nI encourage you to arrive early and come thirsty (not included in Ticket Price) to help support an awesome venue that makes this Paint Party possible. \nThis is an excellent opportunity to relax\, unwind\, and make memories with your friends and family. So\, gather up your friends and your family and let’s paint together! \n\n  \n\n\n\n\n\nReturn & Refund Policy\n\nTicket purchases are nonrefundable. If you are unable to attend and notify me within 48 hours prior to the event\, I will place you on my credit list. Please note that your credit must be used within 90 days or it is forfeited. You may also opt to have your canvas and paint sent home with your friend on the day of the event you signed up for. Brushes are not included. \nIf the paint party has to be changed due to a force of nature\, we will reschedule or issue credit towards another paint party to be used within 90 days. \n\n\n\n\n\n\n 
URL:https://brushedbydesigncreations.com/event/0115foundafriend/
LOCATION:Spiral Brewery\, 111 2nd Street E\, Hastings\, MN\, 55033\, United States
CATEGORIES:Paint Parties
ATTACH;FMTTYPE=image/jpeg:https://brushedbydesigncreations.com/wp-content/uploads/2025/11/01.16.26-Spiral-Brewery-Paint-and-Sip-Paint-Party-Hastings-MN-Social.jpg
END:VEVENT
BEGIN:VEVENT
DTSTART;TZID=America/Chicago:20260118T180000
DTEND;TZID=America/Chicago:20260118T200000
DTSTAMP:20260421T155713
CREATED:20260103T021117Z
LAST-MODIFIED:20260103T031219Z
UID:10915-1768759200-1768766400@brushedbydesigncreations.com
SUMMARY:01/18/26 Paint Warm Wishes Painters Choice at Celts Pub of Farmington
DESCRIPTION:Join us on Sunday\, January 18th at 6:00pm at Celts Pub of Farmington for a fun-filled evening painting on an 12 x 12 Canvas! \nGrab your seats here: Sign up here \nWhether you are a painting enthusiast or a beginner\, our talented artist will guide you Step by Step\, making this a perfect event for everyone! All supplies included! All Ages welcome and No Experience needed! Design will be pre-sketched and ready to paint with acrylics. \nWHEN:\nSunday\, January 18\n6:00 pm to 8:00 pm\nCOST: $35 \nThis paint party must be pre-paid. \nLOCATION: \nCelts Pub of Farmington\n200 3rd Street\nFarmington\, MN 55024 \nFood and beverage are available for purchase\, but not included in the ticket price. Come hungry and help support an awesome venue that makes this paint party possible. \nThis is an excellent opportunity to relax\, unwind\, and make memories with your friends and family. Experience FUN ART at Celts Pub of Farmington! \nReturn & Refund Policy \nPlease note that ticket sales are nonrefundable\, but we are happy to reschedule you for another event with a minimum of 48 hours notice. Please note that your credit must be used within 90 days or it is forfeited. You may also opt to have your canvas and paint sent home with your friend on the day of the event you signed up for. Brushes are not included. If the paint party has to be changed due to a force of nature\, we will reschedule or issue credit towards another paint party to be used within 90 days.
URL:https://brushedbydesigncreations.com/event/0118warmwinter/
LOCATION:Celts Pub Of Farmington\, 200 3rd Street\, Farmington\, 55024\, United States
CATEGORIES:Paint Parties
ATTACH;FMTTYPE=image/jpeg:https://brushedbydesigncreations.com/wp-content/uploads/2025/12/01.18.26-Celts-Pub-of-Farmington-MN-paint-and-sip-paint-party-social-1.jpg
END:VEVENT
BEGIN:VEVENT
DTSTART;TZID=America/Chicago:20260125T180000
DTEND;TZID=America/Chicago:20260125T203000
DTSTAMP:20260421T155713
CREATED:20260103T021507Z
LAST-MODIFIED:20260103T031128Z
UID:10917-1769364000-1769373000@brushedbydesigncreations.com
SUMMARY:01/25/26 Paint Ray of Sunshine at Tops Pizza & Grill\, Rosemount\, MN
DESCRIPTION:Join us at Tops Pizza & Grill for a fun-filled evening painting the Fox in a Ray of Sunshine an 11 x 14 canvas! \nGrab your seats here: Sign up here \nWhether you are a painting enthusiast or a beginner\, our talented artist will guide you step by step\, making this a perfect event for everyone. All ages welcome and no experience needed. Design will be sketched and ready to paint using acrylics. \nThis is an excellent opportunity to relax\, unwind\, and make memories with your friends and family. Lots of fun and everyone leaves with a finished painting! \nWHEN:\nSunday\, January 25\n6: 00 pm – 8:30 PM\nCOST: $35 \nThis paint party must be pre-paid. \nLOCATION: \nTops Pizza & Grill\n14533 Dodd Blvd\n Rosemount\, MN 55068 \nCome early to order food and drinks and help support an awesome venue that makes this paint party possible! (not included in ticket price) \n\n\nPLEASE NOTE: Arrive at least 10 minutes early to get prepped for painting. \n\nSeats are limited so Register Early to save your Seat! \nReturn & Refund Policy\nTicket purchases are nonrefundable. If you are unable to attend and notify me a minimum of 48 hours before the paint party\, I will place you on my credit list. Please note that your credit must be used within 90 days or it is forfeited. You may also opt to have your canvas and paint sent home with your friend on the day of the event you signed up for. Brushes are not included. If the paint party has to be changed due to a force of nature\, we will reschedule or issue credit towards another paint party to be used within 90 days.
URL:https://brushedbydesigncreations.com/event/0125rayofsunshine/
LOCATION:Tops Pizza & Grill\, 14533 Dodd Blvd\, Rosemount\, MN\, 55068\, United States
CATEGORIES:Paint Parties
ATTACH;FMTTYPE=image/jpeg:https://brushedbydesigncreations.com/wp-content/uploads/2025/12/01.25.26-Tops-Pizza-and-Grill-Paint-and-Sip-Paint-Party-Rosemount-MN-Social.jpg
END:VEVENT
BEGIN:VEVENT
DTSTART;TZID=America/Chicago:20260127T180000
DTEND;TZID=America/Chicago:20260127T203000
DTSTAMP:20260421T155713
CREATED:20260103T021832Z
LAST-MODIFIED:20260103T030847Z
UID:10919-1769536800-1769545800@brushedbydesigncreations.com
SUMMARY:01/27/26 Paint Love is in the Air at The Wexford at Emerald Greens\, Hastings\, MN
DESCRIPTION:Join us for a fun-filled evening painting Love is in the Air on an 11 x 14 canvas at The Wexford at Emerald Greens in Hastings\, MN! \nGrab your seats here: Sign up Here \nWhether you are a painting enthusiast or a beginner\, our talented artist will guide you Step by Step\, making this a perfect event for everyone! This is an excellent opportunity to relax\, unwind\, and make memories with your friends and family. \nAll ages welcome and no experience needed. All Supplies included! Design will be sketched and ready to paint using acrylics. \nWHEN:\nTuesday\, January 27\n6:00 pm to 8:30 pm\nCOST: $35 per canvas \nThis paint party must be pre-paid. \nLOCATION: \nThe Wexford at Emerald Greens\nLower Level in the Sandtrap Room next to Bogey’s Pub\n14425 Goodwin Ave\nHastings\, MN 55033 \nCome hungry and help support an awesome venue who makes this Paint Party possible! Arrive at 5 pm to purchase dinner and drinks to enjoy (not included in the ticket price) in Bogey’s or where we will be painting in the lower level. \nSeats are limited so Register Early to save your Seat! \nReturn & Refund Policy \nTicket purchases are nonrefundable. If you are unable to attend and notify me at least 48 hours in advance\, I will place you on my credit list. Please note that your credit must be used within 90 days or it is forfeited. You may also opt to have your canvas and paint sent home with your friend on the day of the event you signed up for. Brushes are not included. If the paint party has to be changed due to a force of nature\, we will reschedule or issue credit towards another paint party to be used within 90 days.
URL:https://brushedbydesigncreations.com/event/0127loveisintheair/
LOCATION:The Wexford at Emerald Greens\, 14425 Goodwin Ave\, Hastings\, 55033\, United States
CATEGORIES:Paint Parties
ATTACH;FMTTYPE=image/jpeg:https://brushedbydesigncreations.com/wp-content/uploads/2025/12/01.27.26-Wexfords-of-Emerald-Greens-Paint-and-Sip-Paint-Party-Hastings-MN-Social.jpg
END:VEVENT
BEGIN:VEVENT
DTSTART;TZID=America/Chicago:20260128T180000
DTEND;TZID=America/Chicago:20260128T203000
DTSTAMP:20260421T155713
CREATED:20260103T022336Z
LAST-MODIFIED:20260103T030742Z
UID:10921-1769623200-1769632200@brushedbydesigncreations.com
SUMMARY:01/28/26 Paint Minnesota Northern Lights with Hastings Community Education\, Hastings\, MN
DESCRIPTION:Join us for a fun-filled evening painting the Minnesota Northern Lights on an 18″ Minnesota Wood cutout at Tilden Community Center with Hastings Community Education. \nGrab your seats here: Sign up Here \nWhether you are a painting enthusiast or a beginner\, our talented artist will guide you Step by Step\, making this a perfect event for everyone! \nAll ages welcome and no experience needed. All supplies are included so you can complete your masterpiece! \nWHEN:\nWednesday\, January 28\n6:00pm to 8:30pm\nCOST: $55 \nThis paint party must be pre-paid. \nLOCATION: \nTilden Community Center\n310 River Street\nHastings\, MN  \nThis is an excellent opportunity to relax\, unwind\, and make memories with your friends and family. Experience FUN ART with Hastings Community Education! \n*Tickets are purchased through Hastings Community Education
URL:https://brushedbydesigncreations.com/event/0128minnesotanorthernlights/
LOCATION:Hastings Community Education\, 310 River Street\, Hastings\, 55044\, United States
CATEGORIES:Paint Parties
ATTACH;FMTTYPE=image/png:https://brushedbydesigncreations.com/wp-content/uploads/2025/07/Minnesota-Northern-Lights-Wood-Cutout.png
END:VEVENT
BEGIN:VEVENT
DTSTART;TZID=America/Chicago:20260129T183000
DTEND;TZID=America/Chicago:20260129T210000
DTSTAMP:20260421T155713
CREATED:20260103T022709Z
LAST-MODIFIED:20260103T030621Z
UID:10924-1769711400-1769720400@brushedbydesigncreations.com
SUMMARY:01/29/26 Paint Beneath the Birch at Cannon River Winery\, Cannon Falls\, MN
DESCRIPTION:Join us on Thursday\, January 29th at 6:30pm at Cannon River Winery for a fun-filled evening painting your choice of Bear or Cardinal Beneath the Birch on 11 x 14 Canvas! \nGrab your seats here: https://brushedbydesigncreations.com/product/0129beneaththebirch/ \nWhether you are a painting enthusiast or a beginner\, our talented artist will guide you step by step\, making this a perfect event for everyone. All ages welcome and no experience needed. Design will be sketched and ready to paint using acrylics. \nWHEN:\nThursday\, January 29th\n6:30 pm to 9 pm\nCOST: $35 per canvas \nThis paint party must be pre-paid. \nLOCATION: \nCannon River Winery\n421 Mill Street West\nCannon Falls\, MN 55009 \nThis is an excellent opportunity to relax\, unwind\, and make memories with your friends and family. Lots of fun and everyone leaves with a finished painting! You don’t want to miss out on this amazing event! \nFood and beverage are available for purchase\, but not included in the ticket price. Arrive early and come hungry to help support Cannon River Winery\, an awesome venue that makes this Paint Party possible. \nPLEASE NOTE: Arrive at least 10 minutes early to get prepped for painting. \nSeats are limited so Register Early to save your Seat! \nReturn & Refund Policy \nTicket purchases are non-refundable. If you are unable to attend and notify me within 48 hours prior to the event\, I will place you on my credit list. Please note that your credit must be used within 90 days or it is forfeited. You may also opt to have your canvas and paint sent home with your friend on the day of the event you signed up for. Brushes are not included. If the paint party has to be changed due to a force of nature\, we will reschedule or issue credit towards another paint party to be used within 90 days.
URL:https://brushedbydesigncreations.com/event/0129beneaththebirch/
LOCATION:Cannon River Winery\, 421 Mill Street West\, Cannon Falls\, Minnesota\, 55009
CATEGORIES:Paint Parties
ATTACH;FMTTYPE=image/jpeg:https://brushedbydesigncreations.com/wp-content/uploads/2025/11/01.29.26-Cannon-River-Winery-Paint-and-Sip-Paint-Party-Cannon-Falls-MN-Social.jpg
END:VEVENT
END:VCALENDAR