BEGIN:VCALENDAR
VERSION:2.0
PRODID:-//Brushed by Design Creations LLC - ECPv6.15.20//NONSGML v1.0//EN
CALSCALE:GREGORIAN
METHOD:PUBLISH
X-WR-CALNAME:Brushed by Design Creations LLC
X-ORIGINAL-URL:https://brushedbydesigncreations.com
X-WR-CALDESC:Events for Brushed by Design Creations LLC
REFRESH-INTERVAL;VALUE=DURATION:PT1H
X-Robots-Tag:noindex
X-PUBLISHED-TTL:PT1H
BEGIN:VTIMEZONE
TZID:America/Chicago
BEGIN:DAYLIGHT
TZOFFSETFROM:-0600
TZOFFSETTO:-0500
TZNAME:CDT
DTSTART:20250309T080000
END:DAYLIGHT
BEGIN:STANDARD
TZOFFSETFROM:-0500
TZOFFSETTO:-0600
TZNAME:CST
DTSTART:20251102T070000
END:STANDARD
BEGIN:DAYLIGHT
TZOFFSETFROM:-0600
TZOFFSETTO:-0500
TZNAME:CDT
DTSTART:20260308T080000
END:DAYLIGHT
BEGIN:STANDARD
TZOFFSETFROM:-0500
TZOFFSETTO:-0600
TZNAME:CST
DTSTART:20261101T070000
END:STANDARD
BEGIN:DAYLIGHT
TZOFFSETFROM:-0600
TZOFFSETTO:-0500
TZNAME:CDT
DTSTART:20270314T080000
END:DAYLIGHT
BEGIN:STANDARD
TZOFFSETFROM:-0500
TZOFFSETTO:-0600
TZNAME:CST
DTSTART:20271107T070000
END:STANDARD
END:VTIMEZONE
BEGIN:VEVENT
DTSTART;TZID=America/Chicago:20260319T183000
DTEND;TZID=America/Chicago:20260319T210000
DTSTAMP:20260421T112013
CREATED:20260204T025524Z
LAST-MODIFIED:20260204T030440Z
UID:11349-1773945000-1773954000@brushedbydesigncreations.com
SUMMARY:03/19/26 Paint Silly Old Bear at Spiral Brewery\, Hastings\, MN at 6:30 PM
DESCRIPTION:Join us for a fun-filled evening painting Silly Old Bear on an 12 x 12 canvas at Spiral Brewery in Hastings\, MN! \nGrab your seats here: https://brushedbydesigncreations.com/product/0319sillyoldbear/ \nWhether you are a painting enthusiast or a beginner\, our talented artist will guide you Step by Step\, making this a perfect event for everyone! \nAll ages welcome and no experience needed. Design will be pre-sketched and ready to paint with acrylics. All supplies are included so you can complete your masterpiece! \nCOST: $40 per painter \nThis paint party must be pre-paid. \nWHEN:\nThursday\, March 19\n6:30pm to  9:00 pm \nLOCATION: \nSpiral Brewery\n111 2nd Street\nHastings\, MN 55033 \nI encourage you to arrive early and come thirsty (not included in Ticket Price) to help support an awesome venue that makes this Paint Party possible. \nThis is an excellent opportunity to relax\, unwind\, and make memories with your friends and family. So\, gather up your friends and your family and let’s paint together!
URL:https://brushedbydesigncreations.com/event/0319sillyoldbear/
LOCATION:Spiral Brewery\, 111 2nd Street E\, Hastings\, MN\, 55033\, United States
CATEGORIES:Paint Parties
ATTACH;FMTTYPE=image/jpeg:https://brushedbydesigncreations.com/wp-content/uploads/2026/02/03.19.26-Spiral-Brewery-paint-and-Sip-Paint-Party-Hastings-MN-social-1.jpg
END:VEVENT
END:VCALENDAR