BEGIN:VCALENDAR
VERSION:2.0
PRODID:-//Brushed by Design Creations LLC - ECPv6.15.20//NONSGML v1.0//EN
CALSCALE:GREGORIAN
METHOD:PUBLISH
X-WR-CALNAME:Brushed by Design Creations LLC
X-ORIGINAL-URL:https://brushedbydesigncreations.com
X-WR-CALDESC:Events for Brushed by Design Creations LLC
REFRESH-INTERVAL;VALUE=DURATION:PT1H
X-Robots-Tag:noindex
X-PUBLISHED-TTL:PT1H
BEGIN:VTIMEZONE
TZID:America/Chicago
BEGIN:DAYLIGHT
TZOFFSETFROM:-0600
TZOFFSETTO:-0500
TZNAME:CDT
DTSTART:20250309T080000
END:DAYLIGHT
BEGIN:STANDARD
TZOFFSETFROM:-0500
TZOFFSETTO:-0600
TZNAME:CST
DTSTART:20251102T070000
END:STANDARD
BEGIN:DAYLIGHT
TZOFFSETFROM:-0600
TZOFFSETTO:-0500
TZNAME:CDT
DTSTART:20260308T080000
END:DAYLIGHT
BEGIN:STANDARD
TZOFFSETFROM:-0500
TZOFFSETTO:-0600
TZNAME:CST
DTSTART:20261101T070000
END:STANDARD
BEGIN:DAYLIGHT
TZOFFSETFROM:-0600
TZOFFSETTO:-0500
TZNAME:CDT
DTSTART:20270314T080000
END:DAYLIGHT
BEGIN:STANDARD
TZOFFSETFROM:-0500
TZOFFSETTO:-0600
TZNAME:CST
DTSTART:20271107T070000
END:STANDARD
END:VTIMEZONE
BEGIN:VEVENT
DTSTART;TZID=America/Chicago:20260306T183000
DTEND;TZID=America/Chicago:20260306T203000
DTSTAMP:20260421T111849
CREATED:20260201T204239Z
LAST-MODIFIED:20260202T021724Z
UID:11310-1772821800-1772829000@brushedbydesigncreations.com
SUMMARY:03/06/26 St. Phillips Church **Private** Crushed Glass & Resin Sun Catchers
DESCRIPTION:Private Crushed Glass & Resin Sun Catcher Art at St. Phillips Church\, Hastings\, MN\nJoin us for a fun-filled evening making Crushed Glass & Resin Sun-catchers in your choice of  design at St. Phillips Church in Hastings\, MN! Enjoy a relaxed evening getting creative with friends and family. \nGrab your seats here: https://brushedbydesigncreations.com/product/0306suncatcher/ \nWhat’s included: \n\nCrushed Glass and Resin Supplies (low VOC for no odor)\nStep by step instruction\nYour 12″ Wood template\nSafety Gloves (Masks available upon request)\nAll ages welcome and no experience needed. Take yours home that night!\n\nCOST: $55 \nThis event must be pre-paid. \nWHEN:\nFriday\, March 6\n6:30 pm to  8:30 pm \nLOCATION: \nSt. Phillips Church\nHastings\, MN \nThis is an excellent opportunity to relax\, unwind\, and make memories with your friends and family. So\, gather up your friends and your family and let’s create together! Experience Fun Art!
URL:https://brushedbydesigncreations.com/event/0306crushedglass/
LOCATION:St. Phillips Church\, 1401 15th St W\, Hastings\, MN\, 55033\, United States
CATEGORIES:Paint Parties
ATTACH;FMTTYPE=image/jpeg:https://brushedbydesigncreations.com/wp-content/uploads/2026/01/Crushed-Glass-Resin-Private-Party.jpg
END:VEVENT
END:VCALENDAR